BEGIN:VCALENDAR
VERSION:2.0
PRODID:-//Moneta Tanıtım, Reklam, Pazarlama, Dijital Ajans - ECPv6.15.20//NONSGML v1.0//EN
CALSCALE:GREGORIAN
METHOD:PUBLISH
X-ORIGINAL-URL:https://monetatanitim.com
X-WR-CALDESC:Moneta Tanıtım, Reklam, Pazarlama, Dijital Ajans için etkinlikler
REFRESH-INTERVAL;VALUE=DURATION:PT1H
X-Robots-Tag:noindex
X-PUBLISHED-TTL:PT1H
BEGIN:VTIMEZONE
TZID:Europe/Istanbul
BEGIN:STANDARD
TZOFFSETFROM:+0300
TZOFFSETTO:+0300
TZNAME:+03
DTSTART:20240101T000000
END:STANDARD
END:VTIMEZONE
BEGIN:VEVENT
DTSTART;TZID=Europe/Istanbul:20250424T080000
DTEND;TZID=Europe/Istanbul:20250426T170000
DTSTAMP:20260424T025203
CREATED:20250115T173320Z
LAST-MODIFIED:20250115T175652Z
UID:7277-1745481600-1745686800@monetatanitim.com
SUMMARY:VIV TÜRKİYE
DESCRIPTION:HKF Fuarcılık’ın Hollanda VNU Exhibitions lisansı ile organize ettiği VIV Türkiye\, Dünya Fuarcılar Birliği’nin de bir üyesidir. VIV TÜRKİYE\, 10 – 13 Haziran 2004 tarihinde 22.Dünya Tavukçuluk Kongre Fuarı\, 25 – 27 Ağustos 2005 tarihinde ise Dünya Veteriner Tavukçuluk Kongre Fuarı’nı organize etmenin gururunu taşımaktadır. \nUFI (Dünya Fuar Organizasyonları Birliği) kalite onaylı VIV Türkiye bulunduğu bölgesel konumda Orta Doğu\, Balkanlar ve Türki Cumhuriyetler’in en önemli Uluslararası Tavukçuluk Fuarıdır. \n“Yemden Sofraya Kanatlı Eti ve Yumurta Güvenliği” \nBu konseptin oluşmasındaki ana neden; etin kalitesi ve güvenliği için hayvan yemi ve sağlığının önemli bir konu olmasıdır. En modern tesislerindeki et üretiminin tüm aşamalarını adım adım tanıtan üreticiler ve gıda güvenliği konusunda bilinçli alıcılar VIV TÜRKİYE Uluslararası Tavukçuluk Fuarı’nda buluşarak yeni iş imkanları yaratmaktadırlar. VIV TÜRKİYE sektörel endüstri kuruluşları için kaçırılmaz bir fırsattır. \nSizleri VIV TÜRKİYE Fuarı’nda yerinizi almak için davet ediyoruz. \nFUARDA SERGİLENEN ÜRÜNLER / HİZMETLER \n Tavukçuluk entegreleri ve tüm teknik gereçleri\n Beyaz Et üretimi Endüstrisi ve tüm teknik gereçleri\n Beyaz Et bitmiş ürünleri\n Yem hammadde ve katkı ürünleri\, yem makinaları\n Veteriner gereçleri\, ilaçları\, geliştirici ve biyolojik ürünler\n Laboratuar ve analiz cihazları\n Genetik ve kayıt sistemleri\n Paketleme ve lojistik sistemleri\n Hayvan Sağlığı\,Hijyen\, temizlik ve sanitasyon sistemleri\n Çiftlik kurma ve anahtar teslimi proje sistemleri\n Danışmanlık hizmetleri\n Çiftlik ticari araçları\n Tavukçuluk ile ilgili Birlikler\, Dernekler\, Odalar ve Kooperatifler\n Bankalar ve Sigorta Şirketleri
URL:https://monetatanitim.com/etkinlik/viv-turkiye/
LOCATION:İstanbul Fuar Merkezi\, Yeşilköy Istanbul\, Fuar Merkezi\, Bakırköy\, İstanbul\, İstanbul\, 34149\, Türkiye
CATEGORIES:Gıda,Hayvancılık
ATTACH;FMTTYPE=image/jpeg:https://monetatanitim.com/wp-content/uploads/2025/01/viv-turkiye.jpg
ORGANIZER;CN="HKF FUARCILIK A.%C5%9E.":MAILTO:info@hkf-fairs.com
END:VEVENT
END:VCALENDAR