BEGIN:VCALENDAR
VERSION:2.0
PRODID:-//Moneta Tanıtım, Reklam, Pazarlama, Dijital Ajans - ECPv6.15.20//NONSGML v1.0//EN
CALSCALE:GREGORIAN
METHOD:PUBLISH
X-ORIGINAL-URL:https://monetatanitim.com
X-WR-CALDESC:Moneta Tanıtım, Reklam, Pazarlama, Dijital Ajans için etkinlikler
REFRESH-INTERVAL;VALUE=DURATION:PT1H
X-Robots-Tag:noindex
X-PUBLISHED-TTL:PT1H
BEGIN:VTIMEZONE
TZID:Europe/Istanbul
BEGIN:STANDARD
TZOFFSETFROM:+0300
TZOFFSETTO:+0300
TZNAME:+03
DTSTART:20240101T000000
END:STANDARD
END:VTIMEZONE
BEGIN:VEVENT
DTSTART;TZID=Europe/Istanbul:20250507T080000
DTEND;TZID=Europe/Istanbul:20250508T170000
DTSTAMP:20260422T024025
CREATED:20250220T121630Z
LAST-MODIFIED:20250220T121638Z
UID:7360-1746604800-1746723600@monetatanitim.com
SUMMARY:OFFSHORE WIND TURKIYE
DESCRIPTION:OFFSHORE WIND TURKIYE conference will be held in the City of Çanakkale (Trojan City) on 7 – 9 May 2025\, with the participation of prestigious producers\, professional investors\, and buyer companies from all around the world. \nOFFSHORE WIND TURKIYE will bring together energy and maritime sector professionals\, public institutions\, energy investor firms\, turbine companies\, shipyards\, maritime transport companies\, measurement and engineering companies\, universities\, press\, and associations. Participants will expand their business networks and increase export volume while having the opportunity to meet with the latest technological advancements.
URL:https://monetatanitim.com/etkinlik/offshore-wind-turkiye/
LOCATION:ÇOMÜ | Çanakkale Onsekiz Mart Üniversitesi\, Çanakkale Onsekiz Mart Üniversitesi Terzioğlu Kampüsü\, Barbaros\, Prof. Dr. Sevim Buluç Sk. No:20\, 17100 Çanakkale Merkez\, Çanakkale\, 17100\, Turkey
CATEGORIES:Enerji
ATTACH;FMTTYPE=image/jpeg:https://monetatanitim.com/wp-content/uploads/2025/02/offshore.jpg
ORGANIZER;CN="Deniz%C3%BCst%C3%BC R%C3%BCzgar Enerjisi Derne%C4%9Fi (D%C3%9CRED)":MAILTO:info@dured.org
END:VEVENT
END:VCALENDAR