BEGIN:VCALENDAR
VERSION:2.0
PRODID:-//Moneta Tanıtım, Reklam, Pazarlama, Dijital Ajans - ECPv6.15.20//NONSGML v1.0//EN
CALSCALE:GREGORIAN
METHOD:PUBLISH
X-WR-CALNAME:Moneta Tanıtım, Reklam, Pazarlama, Dijital Ajans
X-ORIGINAL-URL:https://monetatanitim.com
X-WR-CALDESC:Moneta Tanıtım, Reklam, Pazarlama, Dijital Ajans için etkinlikler
REFRESH-INTERVAL;VALUE=DURATION:PT1H
X-Robots-Tag:noindex
X-PUBLISHED-TTL:PT1H
BEGIN:VTIMEZONE
TZID:Europe/Istanbul
BEGIN:STANDARD
TZOFFSETFROM:+0300
TZOFFSETTO:+0300
TZNAME:+03
DTSTART:20250101T000000
END:STANDARD
END:VTIMEZONE
BEGIN:VEVENT
DTSTART;TZID=Europe/Istanbul:20260617T090000
DTEND;TZID=Europe/Istanbul:20260619T170000
DTSTAMP:20260421T191616
CREATED:20250520T123118Z
LAST-MODIFIED:20250821T114031Z
UID:7376-1781686800-1781888400@monetatanitim.com
SUMMARY:Busworld Türkiye
DESCRIPTION:Otobüs sektörü hakkında her şey\n\nBusworld 1971 yılından beri dünyanın birçok ülkesinde otobüs etkinlikleri düzenleyen bir organizasyondır. Fuar\, konferanslardan online seminerlerle birçok sektör mensubunu bir araya getirerek\, tanışmasını iş yapmasını bilgi alışverişi yapmasını sağlamıştır. Busworld bu zamana kadar sektörle el ele çalışmanın  gururunu yaşamaktadır. \nOtobüs dünyasındaki en son yeniliklerin ve trendlerin ortaya çıkarıldığı\, sergilendiği ve önde gelen global markalardan yerel start-up’lara kadar birçok  firmanın yer aldığı bir platformdur. \nSadece otobüs – sizin sektörünüz\nTüm etkinliklerimiz sadece otobüs endüstrisine odaklanmaktadır. Fuarda kamyon\, kamyonet ve başka bir ulaşım aracı bulunmamaktadır. \nNeden? Otobüs sektörünün dikkatleri üzerine çekmeyi hak ettiğine inanıyoruz ve doğru insanlarla bağlantı kurabilmenizi sağlamak istiyoruz. \nFirmanız için en iyi müşteriler\nBusworld uzun geçmişi sebebiyle dünyanın en çok bilinen ve ünlü fuarı olarak konumlanmıştır. Fuarda otobüs üreticileri\, parça üreticileri ve bilenleri\, aksesuarları ve yazılım tedarikçileri yer almaktadır. \nKapsamlı pazarlama çalışmaları ile yeni ve potansiyel ziyaretçi ağını sürekli artırmaktadır. \nSizi dünya ile bağlar\nŞu anda Busworld’ün aktif olduğu ve işletmenizin genişleme fırsatlarının olabileceği 3 bölge var: Avrupa\, Türkiye ve Güneydoğu Asya. \nMarkanız sahnede\nBusworld\, en son ürünlerinizi ve yeniliklerinizi kitlelere tanıtmak için ideal bir platformdur. Markanız birkaç gün boyunca binlerce ziyaretçinin önünde sahnenin merkezinde olacak. \nFazladan dikkatleri üzerinize çekmek ister misiniz? En son ürünlerinizi sektördeki önemli medya mensuplarına gösterebileceğiniz bir basın toplantısı düzenlemenizde size destek olabiliriz veya çözümleriniz hakkında bir sunumu veya durumu fuarla eşzamanlı olarak yürütülen seminerlere  entegre edebiliriz. \nYeni ürünleriniz ve hizmetleriniz hakkındaki bilgilendirmeleri çeşitli Busworld iletişim kanallarımız aracılığıyla da yayılabiliriz. \nİhtiyaçlarınıza göre uyarlanmıi\nSizinle birlikte isteklerinize ve  eksiksiz düşük maliyetli standart paketlerden markanızın göz alıcı bir sunumuna kadar bunları maksimum düzeyde nasıl gerçekleştirebileceğimize bakıyoruz. Bir demo alanı mı arıyorsunuz? Yoksa ürünlerinizi sergileyebileceğiniz ayrı bir oda mı tercih edersiniz? Olasılıklar sonsuzdur ve Busworld ekibi\, yatırım getirisini en üst düzeye çıkarmanıza yardımcı olmak için hizmetinizdedir.
URL:https://monetatanitim.com/etkinlik/busworld-turkiye/
LOCATION:İstanbul Fuar Merkezi\, Yeşilköy Istanbul\, Fuar Merkezi\, Bakırköy\, İstanbul\, İstanbul\, 34149\, Türkiye
CATEGORIES:Otomotiv
ATTACH;FMTTYPE=image/jpeg:https://monetatanitim.com/wp-content/uploads/2025/05/Busworld-Moneta-etkinlikler-logo-200px200px.jpg
ORGANIZER;CN="HKF FUARCILIK A.%C5%9E.":MAILTO:info@hkf-fairs.com
END:VEVENT
END:VCALENDAR