BEGIN:VCALENDAR
VERSION:2.0
PRODID:-//Moneta Tanıtım, Reklam, Pazarlama, Dijital Ajans - ECPv6.15.20//NONSGML v1.0//EN
CALSCALE:GREGORIAN
METHOD:PUBLISH
X-WR-CALNAME:Moneta Tanıtım, Reklam, Pazarlama, Dijital Ajans
X-ORIGINAL-URL:https://monetatanitim.com
X-WR-CALDESC:Moneta Tanıtım, Reklam, Pazarlama, Dijital Ajans için etkinlikler
REFRESH-INTERVAL;VALUE=DURATION:PT1H
X-Robots-Tag:noindex
X-PUBLISHED-TTL:PT1H
BEGIN:VTIMEZONE
TZID:Europe/Istanbul
BEGIN:STANDARD
TZOFFSETFROM:+0300
TZOFFSETTO:+0300
TZNAME:+03
DTSTART:20250101T000000
END:STANDARD
END:VTIMEZONE
BEGIN:VEVENT
DTSTART;TZID=Europe/Istanbul:20260421T090000
DTEND;TZID=Europe/Istanbul:20260423T170000
DTSTAMP:20260421T014202
CREATED:20250115T180900Z
LAST-MODIFIED:20251113T081438Z
UID:7306-1776762000-1776963600@monetatanitim.com
SUMMARY:WindEurope Madrid
DESCRIPTION:Dünyanın rüzgâr enerjisi sektörü bir kez daha buluşuyor: WindEurope Annual Event 2026 Madrid’de\, WindEurope çatısı altında gerçekleştirilecek. 16.000’den fazla profesyonel\, 500+ sergileyici firma\, 80’den fazla oturum\, 400 konuşmacı ve 200 poster ile sektörün nabzı atıyor. Bu etkinlik; teknolojinin\, inovasyonun ve sürdürülebilir enerjinin kesişim noktasında yer almak isteyen herkes için kaçırılmaması gereken bir platform. Yeni iş bağlantıları kurmak\, trendleri yakalamak ve öncü fikirlerle kendinizi konumlandırmak için doğru zaman\, doğru yer: Madrid’de buluşalım. \n \n\nPractical information\nAccommodationHow to get there\n\n\n\n\nEvent name\nWindEurope Annual Event 2026 \nDate\n21-23 April 2026 \nAddress\nRecinto ferial IFEMA MADRID\nNorth Entrance\nAvda del Partenón\, 5\n28042 Madrid\, Spain\nFind out more about the venue \nSocial Media\nOfficial hashtag: #WindEurope2026\nAccounts to tag:@WindEuropeEvent
URL:https://monetatanitim.com/etkinlik/windeurope-madrid/
LOCATION:IFEMA MADRID\, Av. del Partenón\, 5\, Barajas\, 28042\, Madrid\, Madrid\, 28042\, Spain
CATEGORIES:Enerji
ATTACH;FMTTYPE=image/jpeg:https://monetatanitim.com/wp-content/uploads/2025/01/WindEurope-Madrid.jpg
ORGANIZER;CN="WindEurope asbl/vzw":MAILTO:info@windeurope.org
END:VEVENT
END:VCALENDAR